BEGIN:VCALENDAR
VERSION:2.0
PRODID:-//ISEBTT :: The International Society for Electroporation-Based Technologies and Treatments - ECPv6.15.18//NONSGML v1.0//EN
CALSCALE:GREGORIAN
METHOD:PUBLISH
X-WR-CALNAME:ISEBTT :: The International Society for Electroporation-Based Technologies and Treatments
X-ORIGINAL-URL:https://www.electroporation.net
X-WR-CALDESC:Events for ISEBTT :: The International Society for Electroporation-Based Technologies and Treatments
REFRESH-INTERVAL;VALUE=DURATION:PT1H
X-Robots-Tag:noindex
X-PUBLISHED-TTL:PT1H
BEGIN:VTIMEZONE
TZID:Europe/Berlin
BEGIN:DAYLIGHT
TZOFFSETFROM:+0100
TZOFFSETTO:+0200
TZNAME:CEST
DTSTART:20240331T010000
END:DAYLIGHT
BEGIN:STANDARD
TZOFFSETFROM:+0200
TZOFFSETTO:+0100
TZNAME:CET
DTSTART:20241027T010000
END:STANDARD
BEGIN:DAYLIGHT
TZOFFSETFROM:+0100
TZOFFSETTO:+0200
TZNAME:CEST
DTSTART:20250330T010000
END:DAYLIGHT
BEGIN:STANDARD
TZOFFSETFROM:+0200
TZOFFSETTO:+0100
TZNAME:CET
DTSTART:20251026T010000
END:STANDARD
BEGIN:DAYLIGHT
TZOFFSETFROM:+0100
TZOFFSETTO:+0200
TZNAME:CEST
DTSTART:20260329T010000
END:DAYLIGHT
BEGIN:STANDARD
TZOFFSETFROM:+0200
TZOFFSETTO:+0100
TZNAME:CET
DTSTART:20261025T010000
END:STANDARD
END:VTIMEZONE
BEGIN:VEVENT
DTSTART;VALUE=DATE:20250901
DTEND;VALUE=DATE:20250906
DTSTAMP:20260422T022520
CREATED:20260405T134718Z
LAST-MODIFIED:20260405T134718Z
UID:2046-1756684800-1757116799@www.electroporation.net
SUMMARY:10th School on Pulsed Electric Field Applications in Food and Biotechnology (PEF School 2025)
DESCRIPTION:The 10th anniversary edition of the PEF School. Twenty-two participants from 7 countries and more than 20 international experts participated in an intensive week of lectures\, roundtable discussions\, flash presentations\, and hands-on practical laboratory and pilot plant courses. \nTopics covered: PEF fundamentals\, food processing\, microbial inactivation\, food quality\, sustainable food systems\, biorefinery\, ohmic heating\, high-pressure processing\, and legislative frameworks. Industrial perspectives from ELEA Technology GmbH\, Vitave Tech\, Scandinova\, Opticept\, and Frudist. \nISEBTT-supported event.
URL:https://www.electroporation.net/event/10th-school-on-pulsed-electric-field-applications-in-food-and-biotechnology-pef-school-2025/
LOCATION:University of Salerno\, Campus of Fisciano\, Fisciano\, Italy
END:VEVENT
BEGIN:VEVENT
DTSTART;VALUE=DATE:20250914
DTEND;VALUE=DATE:20250918
DTSTAMP:20260422T022520
CREATED:20260405T134718Z
LAST-MODIFIED:20260405T134718Z
UID:2050-1757808000-1758153599@www.electroporation.net
SUMMARY:17th International Bioelectrics Symposium (BIOELECTRICS 2025)
DESCRIPTION:The 17th International Bioelectrics Symposium\, a forum for exchange of scientific and technical information between scientists and industry professionals. \nTopics include: biological responses at molecular\, subcellular\, cellular and intercellular level; biophysics and biochemistry of interaction mechanisms; modeling and simulation; cancer treatment and tumor ablation; disinfection\, decontamination\, and hygiene; food safety and preservation; agricultural applications; and biomedical applications. \nConference Chair: Prof. Guus Pemen (Eindhoven University of Technology).
URL:https://www.electroporation.net/event/17th-international-bioelectrics-symposium-bioelectrics-2025/
LOCATION:Eindhoven University of Technology\, Eindhoven\, Netherlands
ATTACH;FMTTYPE=image/jpeg:https://www.electroporation.net/wp-content/uploads/2026/04/1730466830banner.jpg
END:VEVENT
END:VCALENDAR