BEGIN:VCALENDAR
VERSION:2.0
PRODID:-//ISEBTT :: The International Society for Electroporation-Based Technologies and Treatments - ECPv6.15.18//NONSGML v1.0//EN
CALSCALE:GREGORIAN
METHOD:PUBLISH
X-ORIGINAL-URL:https://www.electroporation.net
X-WR-CALDESC:Events for ISEBTT :: The International Society for Electroporation-Based Technologies and Treatments
REFRESH-INTERVAL;VALUE=DURATION:PT1H
X-Robots-Tag:noindex
X-PUBLISHED-TTL:PT1H
BEGIN:VTIMEZONE
TZID:Europe/Berlin
BEGIN:DAYLIGHT
TZOFFSETFROM:+0100
TZOFFSETTO:+0200
TZNAME:CEST
DTSTART:20230326T010000
END:DAYLIGHT
BEGIN:STANDARD
TZOFFSETFROM:+0200
TZOFFSETTO:+0100
TZNAME:CET
DTSTART:20231029T010000
END:STANDARD
BEGIN:DAYLIGHT
TZOFFSETFROM:+0100
TZOFFSETTO:+0200
TZNAME:CEST
DTSTART:20240331T010000
END:DAYLIGHT
BEGIN:STANDARD
TZOFFSETFROM:+0200
TZOFFSETTO:+0100
TZNAME:CET
DTSTART:20241027T010000
END:STANDARD
BEGIN:DAYLIGHT
TZOFFSETFROM:+0100
TZOFFSETTO:+0200
TZNAME:CEST
DTSTART:20250330T010000
END:DAYLIGHT
BEGIN:STANDARD
TZOFFSETFROM:+0200
TZOFFSETTO:+0100
TZNAME:CET
DTSTART:20251026T010000
END:STANDARD
END:VTIMEZONE
BEGIN:VEVENT
DTSTART;VALUE=DATE:20240315
DTEND;VALUE=DATE:20240317
DTSTAMP:20260423T044947
CREATED:20260405T134715Z
LAST-MODIFIED:20260405T134715Z
UID:2023-1710460800-1710633599@www.electroporation.net
SUMMARY:2nd Slovenian Congress on Electroporation
DESCRIPTION:The 2nd Slovenian Congress on Electroporation\, jointly organized by the Institute of Oncology Ljubljana and the University of Ljubljana\, Faculty of Electrical Engineering. The congress focused on translating basic research into clinical applications\, covering topics such as cardiac arrhythmias\, gynaecological tumours\, veterinary oncology\, COVID-19 vaccination\, and biomarkers. \nFeatured poster sessions and laboratory visits.
URL:https://www.electroporation.net/event/2nd-slovenian-congress-on-electroporation/
LOCATION:Faculty of Electrical Engineering\, University of Ljubljana\, Ljubljana\, Slovenia
END:VEVENT
END:VCALENDAR