BEGIN:VCALENDAR
VERSION:2.0
PRODID:-//ISEBTT :: The International Society for Electroporation-Based Technologies and Treatments - ECPv6.15.18//NONSGML v1.0//EN
CALSCALE:GREGORIAN
METHOD:PUBLISH
X-ORIGINAL-URL:https://www.electroporation.net
X-WR-CALDESC:Events for ISEBTT :: The International Society for Electroporation-Based Technologies and Treatments
REFRESH-INTERVAL;VALUE=DURATION:PT1H
X-Robots-Tag:noindex
X-PUBLISHED-TTL:PT1H
BEGIN:VTIMEZONE
TZID:Europe/Paris
BEGIN:DAYLIGHT
TZOFFSETFROM:+0100
TZOFFSETTO:+0200
TZNAME:CEST
DTSTART:20210328T010000
END:DAYLIGHT
BEGIN:STANDARD
TZOFFSETFROM:+0200
TZOFFSETTO:+0100
TZNAME:CET
DTSTART:20211031T010000
END:STANDARD
BEGIN:DAYLIGHT
TZOFFSETFROM:+0100
TZOFFSETTO:+0200
TZNAME:CEST
DTSTART:20220327T010000
END:DAYLIGHT
BEGIN:STANDARD
TZOFFSETFROM:+0200
TZOFFSETTO:+0100
TZNAME:CET
DTSTART:20221030T010000
END:STANDARD
BEGIN:DAYLIGHT
TZOFFSETFROM:+0100
TZOFFSETTO:+0200
TZNAME:CEST
DTSTART:20230326T010000
END:DAYLIGHT
BEGIN:STANDARD
TZOFFSETFROM:+0200
TZOFFSETTO:+0100
TZNAME:CET
DTSTART:20231029T010000
END:STANDARD
END:VTIMEZONE
BEGIN:VEVENT
DTSTART;VALUE=DATE:20220512
DTEND;VALUE=DATE:20220514
DTSTAMP:20260424T081703
CREATED:20220503T064202Z
LAST-MODIFIED:20220503T064202Z
UID:1335-1652313600-1652486399@www.electroporation.net
SUMMARY:5th Veterinary Workshop on Electroporation-Based Treatments
DESCRIPTION:The 5th Veterinary Workshop on electroporation-based treatment will be traditionally organized by the joint collaboration of top experts from basic science of electroporation and experts from clinical use in human and veterinary oncology. \nThe details about the Workshop are available on web page of Slovenian small animal veterinary association\, follow the links below for their respective language versions: \nEnglish: https://www.zdruzenje-szvmz.si/en/novice/5th-veterinary-workshop-on-electroporation-based-treatments/ \nSlovene: https://www.zdruzenje-szvmz.si/page/5-veterinarska-delavnica-elektroporacija/ \nWorkshop will take place on 12th & 13th of May 2022 at Small Animal Clinic of Veterinary Faculty UL (Cesta v Mestni log 47\, Ljubljana). \nThe registration is still open!
URL:https://www.electroporation.net/event/5th-veterinary-workshop-on-electroporation-based-treatments/
LOCATION:Small Animal Clinic of Veterinary Faculty UL\, Cesta v Mestni log 47\, Ljubljana\, 1000\, Slovenia
CATEGORIES:Workshop
ORGANIZER;CN="University of Ljubljana%2C Veterinary Faculty and Ljubljana Institute of Oncology":MAILTO:ulampreht@onko-i.si
END:VEVENT
BEGIN:VEVENT
DTSTART;VALUE=DATE:20220530
DTEND;VALUE=DATE:20220604
DTSTAMP:20260424T081703
CREATED:20220209T100454Z
LAST-MODIFIED:20220209T100701Z
UID:1291-1653868800-1654300799@www.electroporation.net
SUMMARY:8th PEF School on Pulsed Electric Field Applications in Food and Biotechnology
DESCRIPTION:For the 8th PEF School\, visit Compiègne\, a historical commune in the Oise department in northern France. \nCompiègne is home to the University of Technology of Compiègne (UTC)\, one of the top ranking engineering schools in France\, founded as a Technology University in 1972 to provide an alternative to the traditional “grandes écoles” for students interested in technologies and applied science. \nMore information is available by email\, please write to the following email address: pefschool2022@utc.fr. \nSubmission and pre-registration are both open! Submit & register asap to ensure acceptance!
URL:https://www.electroporation.net/event/8th-pef-school-on-pulsed-electric-field-applications-in-food-and-biotechnology/
LOCATION:University of Technology of Compiègne\, 57 Avenue de Landshut\, Compiègne\, 60200\, France
CATEGORIES:School
ATTACH;FMTTYPE=image/jpeg:https://www.electroporation.net/wp-content/uploads/2022/02/venue_v2.jpg
ORGANIZER;CN="University of Technology of Compi%C3%A8gne":MAILTO:pefschool2022@utc.fr
END:VEVENT
END:VCALENDAR