BEGIN:VCALENDAR
VERSION:2.0
PRODID:-//ISEBTT :: The International Society for Electroporation-Based Technologies and Treatments - ECPv6.15.18//NONSGML v1.0//EN
CALSCALE:GREGORIAN
METHOD:PUBLISH
X-WR-CALNAME:ISEBTT :: The International Society for Electroporation-Based Technologies and Treatments
X-ORIGINAL-URL:https://www.electroporation.net
X-WR-CALDESC:Events for ISEBTT :: The International Society for Electroporation-Based Technologies and Treatments
REFRESH-INTERVAL;VALUE=DURATION:PT1H
X-Robots-Tag:noindex
X-PUBLISHED-TTL:PT1H
BEGIN:VTIMEZONE
TZID:Europe/Paris
BEGIN:DAYLIGHT
TZOFFSETFROM:+0100
TZOFFSETTO:+0200
TZNAME:CEST
DTSTART:20190331T010000
END:DAYLIGHT
BEGIN:STANDARD
TZOFFSETFROM:+0200
TZOFFSETTO:+0100
TZNAME:CET
DTSTART:20191027T010000
END:STANDARD
BEGIN:DAYLIGHT
TZOFFSETFROM:+0100
TZOFFSETTO:+0200
TZNAME:CEST
DTSTART:20200329T010000
END:DAYLIGHT
BEGIN:STANDARD
TZOFFSETFROM:+0200
TZOFFSETTO:+0100
TZNAME:CET
DTSTART:20201025T010000
END:STANDARD
BEGIN:DAYLIGHT
TZOFFSETFROM:+0100
TZOFFSETTO:+0200
TZNAME:CEST
DTSTART:20210328T010000
END:DAYLIGHT
BEGIN:STANDARD
TZOFFSETFROM:+0200
TZOFFSETTO:+0100
TZNAME:CET
DTSTART:20211031T010000
END:STANDARD
END:VTIMEZONE
BEGIN:VEVENT
DTSTART;VALUE=DATE:20200505
DTEND;VALUE=DATE:20200507
DTSTAMP:20260425T161813
CREATED:20200226T230146Z
LAST-MODIFIED:20200409T180512Z
UID:1045-1588636800-1588809599@www.electroporation.net
SUMMARY:CANCELED! 5th Veterinary Workshop on Electroporation-Based Treatments
DESCRIPTION:The Workshop has been canceled due to the COVID-19 situation!\nThe original announcement is given below for reference only. \nWorkshop will take place on 5th & 6th of May 2020 at the Small Animal Clinic of Veterinary Faculty UL (Cesta v Mestni log 47\, Ljubljana). \nThe registration is limited to 20 participants! \nRegistration instructions: \nPayment is required with registration. Registration includes lunch and coffee breaks. \nMake checks payable to the account of the Veterinary Chamber of Slovenia: VZbSi\, Cesta 24. junija 25\, 1231 Ljubljana- Črnuče\, Slovenia.\nBIC: LJBASI2X\, IBAN: SI56 0222 2009 0989 255 \nWrite Your NAME in capital letters and „5th Veterinary electroporation workshop“ on the payment form. Mail your registration information (name\, email and conformation of payment\, *students should send a proof of their status) to: zbornica@vzb.si. \nNote that the registration deadline is 31st March 2020!
URL:https://www.electroporation.net/event/5th-veterinary-workshop-on-electroporation-based-treatments-2/
LOCATION:Small Animal Clinic of Veterinary Faculty UL\, Cesta v Mestni log 47\, Ljubljana\, 1000\, Slovenia
CATEGORIES:Workshop
ORGANIZER;CN="University of Ljubljana%2C Veterinary Faculty and Ljubljana Institute of Oncology":MAILTO:ulampreht@onko-i.si
END:VEVENT
END:VCALENDAR