BEGIN:VCALENDAR
VERSION:2.0
PRODID:-//ISEBTT :: The International Society for Electroporation-Based Technologies and Treatments - ECPv6.15.18//NONSGML v1.0//EN
CALSCALE:GREGORIAN
METHOD:PUBLISH
X-WR-CALNAME:ISEBTT :: The International Society for Electroporation-Based Technologies and Treatments
X-ORIGINAL-URL:https://www.electroporation.net
X-WR-CALDESC:Events for ISEBTT :: The International Society for Electroporation-Based Technologies and Treatments
REFRESH-INTERVAL;VALUE=DURATION:PT1H
X-Robots-Tag:noindex
X-PUBLISHED-TTL:PT1H
BEGIN:VTIMEZONE
TZID:Europe/Ljubljana
BEGIN:DAYLIGHT
TZOFFSETFROM:+0100
TZOFFSETTO:+0200
TZNAME:CEST
DTSTART:20230326T010000
END:DAYLIGHT
BEGIN:STANDARD
TZOFFSETFROM:+0200
TZOFFSETTO:+0100
TZNAME:CET
DTSTART:20231029T010000
END:STANDARD
BEGIN:DAYLIGHT
TZOFFSETFROM:+0100
TZOFFSETTO:+0200
TZNAME:CEST
DTSTART:20240331T010000
END:DAYLIGHT
BEGIN:STANDARD
TZOFFSETFROM:+0200
TZOFFSETTO:+0100
TZNAME:CET
DTSTART:20241027T010000
END:STANDARD
BEGIN:DAYLIGHT
TZOFFSETFROM:+0100
TZOFFSETTO:+0200
TZNAME:CEST
DTSTART:20250330T010000
END:DAYLIGHT
BEGIN:STANDARD
TZOFFSETFROM:+0200
TZOFFSETTO:+0100
TZNAME:CET
DTSTART:20251026T010000
END:STANDARD
END:VTIMEZONE
BEGIN:VEVENT
DTSTART;VALUE=DATE:20241111
DTEND;VALUE=DATE:20241117
DTSTAMP:20260422T184406
CREATED:20241030T090038Z
LAST-MODIFIED:20241030T090237Z
UID:1789-1731283200-1731801599@www.electroporation.net
SUMMARY:Electroporation-Based Technologies and Treatments (EBTT) 2024
DESCRIPTION:This year the Laboratory of Biocybernetics is organising\, with support and endorsement of ISEBTT\, the 18th edition of the international scientific workshop and postgraduate course Electroporation-Based Technologies and Treatments (EBTT). It is to be held November 11 – 16\, 2024 at University of Ljubljana\, Ljubljana\, Slovenia. EBTT is intended both for novices and experts in electroporation\, including PhD students\, researchers\, and users in general. This year it will be\, again\, organised in hybrid form\, meaning it will be attended both by lecturers and participants on site as well as on line. According to the words of past editions’ attendees\, this course is an excellent platform to learn\, extend\, confirm\, and develop the knowledge on electroporation mechanisms and applications. \nHurry up and register! The lecturers\, colleagues from the Laboratory of Biocybernetics in charge of the practical lab programme\, and The Chocolate await!
URL:https://www.electroporation.net/event/electroporation-based-technologies-and-treatments-ebtt-2024/
LOCATION:University of Ljubljana Faculty of Electrical Engineering\, Tržaška cesta 25\, Ljubljana\, 1000\, Slovenia
CATEGORIES:School,Workshop
ATTACH;FMTTYPE=image/png:https://www.electroporation.net/wp-content/uploads/2024/10/ebtt2024forepnet.png
ORGANIZER;CN="Sa%C5%A1a Haberl Megli%C4%8D%2C Laboratory of Biocybernetics":MAILTO:sasa.haberlmeglic@fe.uni-lj.si
END:VEVENT
END:VCALENDAR