BEGIN:VCALENDAR
VERSION:2.0
PRODID:-//ISEBTT :: The International Society for Electroporation-Based Technologies and Treatments - ECPv6.15.18//NONSGML v1.0//EN
CALSCALE:GREGORIAN
METHOD:PUBLISH
X-WR-CALNAME:ISEBTT :: The International Society for Electroporation-Based Technologies and Treatments
X-ORIGINAL-URL:https://www.electroporation.net
X-WR-CALDESC:Events for ISEBTT :: The International Society for Electroporation-Based Technologies and Treatments
REFRESH-INTERVAL;VALUE=DURATION:PT1H
X-Robots-Tag:noindex
X-PUBLISHED-TTL:PT1H
BEGIN:VTIMEZONE
TZID:Europe/Berlin
BEGIN:DAYLIGHT
TZOFFSETFROM:+0100
TZOFFSETTO:+0200
TZNAME:CEST
DTSTART:20230326T010000
END:DAYLIGHT
BEGIN:STANDARD
TZOFFSETFROM:+0200
TZOFFSETTO:+0100
TZNAME:CET
DTSTART:20231029T010000
END:STANDARD
BEGIN:DAYLIGHT
TZOFFSETFROM:+0100
TZOFFSETTO:+0200
TZNAME:CEST
DTSTART:20240331T010000
END:DAYLIGHT
BEGIN:STANDARD
TZOFFSETFROM:+0200
TZOFFSETTO:+0100
TZNAME:CET
DTSTART:20241027T010000
END:STANDARD
BEGIN:DAYLIGHT
TZOFFSETFROM:+0100
TZOFFSETTO:+0200
TZNAME:CEST
DTSTART:20250330T010000
END:DAYLIGHT
BEGIN:STANDARD
TZOFFSETFROM:+0200
TZOFFSETTO:+0100
TZNAME:CET
DTSTART:20251026T010000
END:STANDARD
END:VTIMEZONE
BEGIN:VEVENT
DTSTART;VALUE=DATE:20240915
DTEND;VALUE=DATE:20240920
DTSTAMP:20260422T214244
CREATED:20260405T134715Z
LAST-MODIFIED:20260405T134715Z
UID:2029-1726358400-1726790399@www.electroporation.net
SUMMARY:5th World Congress on Electroporation and Pulsed Electric Fields in Biology\, Medicine\, and Food & Environmental Technologies
DESCRIPTION:The 5th World Congress on Electroporation\, the flagship ISEBTT congress held biennially. Co-chaired by Francesca Apollonio (Sapienza University of Rome) and Caterina Merla (ENEA\, Italy). \nThe congress received over 350 abstracts from 30+ countries. The program featured 10+ plenary lectures\, approximately 40 special and regular sessions\, an Educational Session\, an Industry Panel on Pulsed Field Ablation for cardiac ablation\, a 3-Minute Thesis competition for PhD students\, and the SENIOR2YS Meeting Corner. \nThe Justin Teissié Award was presented to Dr. Felipe Maglietti (Argentina). Twenty-two awards were given to students and young investigators\, along with 35 travel grants from the Doreen J. Putrah Cancer Research Foundation. \nNew ISEBTT President Emanuela Signori assumed the presidency at the closing ceremony.
URL:https://www.electroporation.net/event/5th-world-congress-on-electroporation-and-pulsed-electric-fields-in-biology-medicine-and-food-environmental-technologies/
LOCATION:Faculty of Engineering\, Sapienza University of Rome\, Rome\, Italy
ATTACH;FMTTYPE=image/jpeg:https://www.electroporation.net/wp-content/uploads/2026/04/banner.jpg
END:VEVENT
END:VCALENDAR