BEGIN:VCALENDAR
VERSION:2.0
PRODID:-//ISEBTT :: The International Society for Electroporation-Based Technologies and Treatments - ECPv6.15.18//NONSGML v1.0//EN
CALSCALE:GREGORIAN
METHOD:PUBLISH
X-ORIGINAL-URL:https://www.electroporation.net
X-WR-CALDESC:Events for ISEBTT :: The International Society for Electroporation-Based Technologies and Treatments
REFRESH-INTERVAL;VALUE=DURATION:PT1H
X-Robots-Tag:noindex
X-PUBLISHED-TTL:PT1H
BEGIN:VTIMEZONE
TZID:Europe/Paris
BEGIN:DAYLIGHT
TZOFFSETFROM:+0100
TZOFFSETTO:+0200
TZNAME:CEST
DTSTART:20210328T010000
END:DAYLIGHT
BEGIN:STANDARD
TZOFFSETFROM:+0200
TZOFFSETTO:+0100
TZNAME:CET
DTSTART:20211031T010000
END:STANDARD
BEGIN:DAYLIGHT
TZOFFSETFROM:+0100
TZOFFSETTO:+0200
TZNAME:CEST
DTSTART:20220327T010000
END:DAYLIGHT
BEGIN:STANDARD
TZOFFSETFROM:+0200
TZOFFSETTO:+0100
TZNAME:CET
DTSTART:20221030T010000
END:STANDARD
BEGIN:DAYLIGHT
TZOFFSETFROM:+0100
TZOFFSETTO:+0200
TZNAME:CEST
DTSTART:20230326T010000
END:DAYLIGHT
BEGIN:STANDARD
TZOFFSETFROM:+0200
TZOFFSETTO:+0100
TZNAME:CET
DTSTART:20231029T010000
END:STANDARD
END:VTIMEZONE
BEGIN:VEVENT
DTSTART;VALUE=DATE:20221202
DTEND;VALUE=DATE:20221203
DTSTAMP:20260424T012535
CREATED:20220819T100449Z
LAST-MODIFIED:20220819T100449Z
UID:1359-1669939200-1670025599@www.electroporation.net
SUMMARY:3rd Latin American Meeting on Electroporation
DESCRIPTION:The 3rd Latin American Congress on electroporation will take place in Buenos Aires\, Argentina. \nAs the application of electrochemotherapy is growing at high speed\, user’s meeting are of outmost importance. In the event we share Lectures from renown specialists in the field\, with invited guests from US and Europe. In this occasion\, human and veterinary applications of electrochemotherapy will share some common sessions\, and even a discussion forum. \nThe event will take place in the Instituto Universitario Fundación Barceló\, in the very heart of Buenos Aires\, close to many interesting points. The event will include food\, and drinks\, and of course a show of some of our talented performers. \nYou can share your work by presenting a Poster\, which is going to compete for a prize. \nAn intense day on December 2nd\, 2022 is awaiting for you. \nFor more information please visit: www.electroquimioterapia.com.ar/3elem \nor write us to: 3elem@electroquimioterapia.com.ar \n 
URL:https://www.electroporation.net/event/3rd-latin-american-meeting-on-electroporation/
LOCATION:Instituto Universitario Fundación Barceló\, AAB\, Gral. Las Heras 1907\,\, Buenos Aires\, C1127\, Argentina
CATEGORIES:Meeting
ATTACH;FMTTYPE=image/png:https://www.electroporation.net/wp-content/uploads/2022/08/photo_argentina_meeting.png
END:VEVENT
END:VCALENDAR