BEGIN:VCALENDAR
VERSION:2.0
PRODID:-//ISEBTT :: The International Society for Electroporation-Based Technologies and Treatments - ECPv6.15.18//NONSGML v1.0//EN
CALSCALE:GREGORIAN
METHOD:PUBLISH
X-ORIGINAL-URL:https://www.electroporation.net
X-WR-CALDESC:Events for ISEBTT :: The International Society for Electroporation-Based Technologies and Treatments
REFRESH-INTERVAL;VALUE=DURATION:PT1H
X-Robots-Tag:noindex
X-PUBLISHED-TTL:PT1H
BEGIN:VTIMEZONE
TZID:Europe/Paris
BEGIN:DAYLIGHT
TZOFFSETFROM:+0100
TZOFFSETTO:+0200
TZNAME:CEST
DTSTART:20210328T010000
END:DAYLIGHT
BEGIN:STANDARD
TZOFFSETFROM:+0200
TZOFFSETTO:+0100
TZNAME:CET
DTSTART:20211031T010000
END:STANDARD
BEGIN:DAYLIGHT
TZOFFSETFROM:+0100
TZOFFSETTO:+0200
TZNAME:CEST
DTSTART:20220327T010000
END:DAYLIGHT
BEGIN:STANDARD
TZOFFSETFROM:+0200
TZOFFSETTO:+0100
TZNAME:CET
DTSTART:20221030T010000
END:STANDARD
BEGIN:DAYLIGHT
TZOFFSETFROM:+0100
TZOFFSETTO:+0200
TZNAME:CEST
DTSTART:20230326T010000
END:DAYLIGHT
BEGIN:STANDARD
TZOFFSETFROM:+0200
TZOFFSETTO:+0100
TZNAME:CET
DTSTART:20231029T010000
END:STANDARD
END:VTIMEZONE
BEGIN:VEVENT
DTSTART;VALUE=DATE:20221113
DTEND;VALUE=DATE:20221120
DTSTAMP:20260424T023714
CREATED:20220209T103431Z
LAST-MODIFIED:20220209T103431Z
UID:1296-1668297600-1668902399@www.electroporation.net
SUMMARY:Electroporation-Based Technologies and Treatments (EBTT) 2022
DESCRIPTION:This year the Laboratory of Biocybernetics is organising\, with support and endorsement of ISEBTT\, the 16th edition of the international scientific workshop and postgraduate course Electroporation-Based Technologies and Treatments (EBTT). It is to be held November 13 – 19\, 2022 at University of Ljubljana\, Ljubljana\, Slovenia. EBTT is intended both for novices and experts in electroporation\, including PhD students\, researchers\, and users in general. This year it will be organised in hybrid form\, meaning it will be attended both by lecturers and participants on site as well as on line. According to the words of past editions’ attendees\, this course is an excellent platform to learn\, extend\, confirm\, and develop the knowledge on electroporation mechanisms and applications. \nHurry up and register (available APRIL 2022)! The lecturers\, colleagues from the Laboratory of Biocybernetics in charge of the practical lab programme\, and The Chocolate await!
URL:https://www.electroporation.net/event/electroporation-based-technologies-and-treatments-ebtt-2022/
LOCATION:University of Ljubljana Faculty of Electrical Engineering\, Tržaška cesta 25\, Ljubljana\, 1000\, Slovenia
CATEGORIES:School
ATTACH;FMTTYPE=image/jpeg:https://www.electroporation.net/wp-content/uploads/2021/10/ebtt-89.jpg
ORGANIZER;CN="Sa%C5%A1a Haberl Megli%C4%8D%2C Laboratory of Biocybernetics":MAILTO:sasa.haberlmeglic@fe.uni-lj.si
END:VEVENT
END:VCALENDAR