BEGIN:VCALENDAR
VERSION:2.0
PRODID:-//ISEBTT :: The International Society for Electroporation-Based Technologies and Treatments - ECPv6.15.18//NONSGML v1.0//EN
CALSCALE:GREGORIAN
METHOD:PUBLISH
X-ORIGINAL-URL:https://www.electroporation.net
X-WR-CALDESC:Events for ISEBTT :: The International Society for Electroporation-Based Technologies and Treatments
REFRESH-INTERVAL;VALUE=DURATION:PT1H
X-Robots-Tag:noindex
X-PUBLISHED-TTL:PT1H
BEGIN:VTIMEZONE
TZID:Europe/Paris
BEGIN:DAYLIGHT
TZOFFSETFROM:+0100
TZOFFSETTO:+0200
TZNAME:CEST
DTSTART:20190331T010000
END:DAYLIGHT
BEGIN:STANDARD
TZOFFSETFROM:+0200
TZOFFSETTO:+0100
TZNAME:CET
DTSTART:20191027T010000
END:STANDARD
BEGIN:DAYLIGHT
TZOFFSETFROM:+0100
TZOFFSETTO:+0200
TZNAME:CEST
DTSTART:20200329T010000
END:DAYLIGHT
BEGIN:STANDARD
TZOFFSETFROM:+0200
TZOFFSETTO:+0100
TZNAME:CET
DTSTART:20201025T010000
END:STANDARD
BEGIN:DAYLIGHT
TZOFFSETFROM:+0100
TZOFFSETTO:+0200
TZNAME:CEST
DTSTART:20210328T010000
END:DAYLIGHT
BEGIN:STANDARD
TZOFFSETFROM:+0200
TZOFFSETTO:+0100
TZNAME:CET
DTSTART:20211031T010000
END:STANDARD
END:VTIMEZONE
BEGIN:VEVENT
DTSTART;VALUE=DATE:20200907
DTEND;VALUE=DATE:20200912
DTSTAMP:20260425T122416
CREATED:20200130T154456Z
LAST-MODIFIED:20200409T180706Z
UID:1025-1599436800-1599868799@www.electroporation.net
SUMMARY:POSTPONED! 7th School on Pulsed Electric Field Applications in Food and Biotechnology
DESCRIPTION:PEF School is postponed due to the global COVID-19 situation! It is now scheduled to take place in Zaragoza between 7 and 11 September\, 2020.\nThe 7th PEF school will be hosted in 2020 by the University of Zaragoza (Veterinary Faculty)\, Spain\, and will be an opportunity to learn about the latest developments in PEF applications for food and biotechnology from the people that practice it every day. \nOver the course of your stay you will partake in lectures about fundamentals of PEF technology and its applications. Practical courses will complete the PEF school programme. \nAll you\, students\, academics\, and industrial researchers\, interested in this innovative technology and its applications are welcome to participate at the 7th PEF School 2020 in Zaragoza\, Spain. \nWhom to contact? Visit the website (link) or write to the Organisers directly: pefschool2019@unibo.it.
URL:https://www.electroporation.net/event/7th-school-on-pulsed-electric-field-applications-in-food-and-biotechnology/
LOCATION:University of Zaragoza\, Veterinary Faculty\, C/ Miguel Servet\, 177\, Zaragoza\, Zaragoza\, Aragon\, 50013\, Spain
CATEGORIES:School
ATTACH;FMTTYPE=image/jpeg:https://www.electroporation.net/wp-content/uploads/2020/01/zaragoza9.jpg
ORGANIZER;CN="Javier Raso%2C University of Zaragoza%2C Veterinary Faculty":MAILTO:jraso@unizar.es
END:VEVENT
END:VCALENDAR