BEGIN:VCALENDAR
VERSION:2.0
PRODID:-//ISEBTT :: The International Society for Electroporation-Based Technologies and Treatments - ECPv6.15.18//NONSGML v1.0//EN
CALSCALE:GREGORIAN
METHOD:PUBLISH
X-WR-CALNAME:ISEBTT :: The International Society for Electroporation-Based Technologies and Treatments
X-ORIGINAL-URL:https://www.electroporation.net
X-WR-CALDESC:Events for ISEBTT :: The International Society for Electroporation-Based Technologies and Treatments
REFRESH-INTERVAL;VALUE=DURATION:PT1H
X-Robots-Tag:noindex
X-PUBLISHED-TTL:PT1H
BEGIN:VTIMEZONE
TZID:Europe/Paris
BEGIN:DAYLIGHT
TZOFFSETFROM:+0100
TZOFFSETTO:+0200
TZNAME:CEST
DTSTART:20180325T010000
END:DAYLIGHT
BEGIN:STANDARD
TZOFFSETFROM:+0200
TZOFFSETTO:+0100
TZNAME:CET
DTSTART:20181028T010000
END:STANDARD
BEGIN:DAYLIGHT
TZOFFSETFROM:+0100
TZOFFSETTO:+0200
TZNAME:CEST
DTSTART:20190331T010000
END:DAYLIGHT
BEGIN:STANDARD
TZOFFSETFROM:+0200
TZOFFSETTO:+0100
TZNAME:CET
DTSTART:20191027T010000
END:STANDARD
BEGIN:DAYLIGHT
TZOFFSETFROM:+0100
TZOFFSETTO:+0200
TZNAME:CEST
DTSTART:20200329T010000
END:DAYLIGHT
BEGIN:STANDARD
TZOFFSETFROM:+0200
TZOFFSETTO:+0100
TZNAME:CET
DTSTART:20201025T010000
END:STANDARD
END:VTIMEZONE
BEGIN:VEVENT
DTSTART;VALUE=DATE:20191114
DTEND;VALUE=DATE:20191215
DTSTAMP:20260425T235538
CREATED:20191015T114856Z
LAST-MODIFIED:20191015T115833Z
UID:979-1573689600-1576367999@www.electroporation.net
SUMMARY:5th Theoretical and Hands-on Course on Veterinary Electrochemotherapy
DESCRIPTION:The 5th edition of the Theoretical and Hands-on course on veterinary electroporation is now open for inscription. In an intensive manner\, learn basic and applied aspects of electroporation in veterinary medicine. The course is is accredited by the ISEBTT and has special discounts for members. \nThe course is divided into two intensive parts; the first part over a period of two days (November 14 & 15) and the second part over a period of 3 days (December 13-14 & 16).
URL:https://www.electroporation.net/event/5th-theoretical-and-hands-on-course-on-veterinary-electrochemotherapy/
LOCATION:VetOncologia\, Av Cordoba 2663\, Buenos Aires\, CF\, 1176\, Argentina
CATEGORIES:School
ATTACH;FMTTYPE=image/jpeg:https://www.electroporation.net/wp-content/uploads/2019/10/ect-tellado-buenos-aires.jpg
ORGANIZER;CN="VetOncologia":MAILTO:vetoncologia@gmail.com
END:VEVENT
END:VCALENDAR