BEGIN:VCALENDAR
VERSION:2.0
PRODID:-//ISEBTT :: The International Society for Electroporation-Based Technologies and Treatments - ECPv6.15.18//NONSGML v1.0//EN
CALSCALE:GREGORIAN
METHOD:PUBLISH
X-ORIGINAL-URL:https://www.electroporation.net
X-WR-CALDESC:Events for ISEBTT :: The International Society for Electroporation-Based Technologies and Treatments
REFRESH-INTERVAL;VALUE=DURATION:PT1H
X-Robots-Tag:noindex
X-PUBLISHED-TTL:PT1H
BEGIN:VTIMEZONE
TZID:Europe/Paris
BEGIN:DAYLIGHT
TZOFFSETFROM:+0100
TZOFFSETTO:+0200
TZNAME:CEST
DTSTART:20180325T010000
END:DAYLIGHT
BEGIN:STANDARD
TZOFFSETFROM:+0200
TZOFFSETTO:+0100
TZNAME:CET
DTSTART:20181028T010000
END:STANDARD
BEGIN:DAYLIGHT
TZOFFSETFROM:+0100
TZOFFSETTO:+0200
TZNAME:CEST
DTSTART:20190331T010000
END:DAYLIGHT
BEGIN:STANDARD
TZOFFSETFROM:+0200
TZOFFSETTO:+0100
TZNAME:CET
DTSTART:20191027T010000
END:STANDARD
BEGIN:DAYLIGHT
TZOFFSETFROM:+0100
TZOFFSETTO:+0200
TZNAME:CEST
DTSTART:20200329T010000
END:DAYLIGHT
BEGIN:STANDARD
TZOFFSETFROM:+0200
TZOFFSETTO:+0100
TZNAME:CET
DTSTART:20201025T010000
END:STANDARD
END:VTIMEZONE
BEGIN:VEVENT
DTSTART;VALUE=DATE:20190903
DTEND;VALUE=DATE:20190907
DTSTAMP:20260426T040721
CREATED:20181119T165836Z
LAST-MODIFIED:20181119T165851Z
UID:628-1567468800-1567814399@www.electroporation.net
SUMMARY:3rd World Congress on Electroporation and Pulsed Electric Fields in Biology\, Medicine\, and Food & Environmental Technologies
DESCRIPTION:The 3rd World Congress on Electroporation and Pulsed Electric Fields in Biology\, Medicine\, and Food & Environmental Technologies is a meeting organized with the intent of bringing together people from different disciplines involved in basic research or developing applications based on electroporation and use of pulsed electric fields. \nIt will be held during the week starting Tuesday\, September 3\, 2019 followed by three full days ending on Friday\, September 6\, 2019. \nThe Congress venue is Toulouse\, France\, EU. The Congress will be hosted by the Pierre Baudin Congress Centre (Centre de Congrès).
URL:https://www.electroporation.net/event/3rd-world-congress-on-electroporation-and-pulsed-electric-fields-in-biology-medicine-and-food-environmental-technologies/
LOCATION:Centre de Congrès Pierre Baudis\, 11 Esplanade Compans Caffarelli\, Toulouse\, Haute-Garonne\, 31680\, France
CATEGORIES:Congress
ORGANIZER;CN="Eugene Vorobiev":MAILTO:eugene.vorobiev@utc.fr
END:VEVENT
END:VCALENDAR